BEGIN:VCALENDAR
VERSION:2.0
PRODID:-//hacksw/handcal//NONSGML v1.0//EN
BEGIN:VEVENT
SUMMARY:para athletisme
UID:a4c4ba24-70bb-4b2e-b651-d29c28cc7356
DTSTART:20260411T070000Z
DTEND:20260411T150000Z
LOCATION:Localisation   
CATEGORIES:Sportif
STATUS:
URL;VALUE=URI:https://www.cjac-athletisme.com/evenements/2026/04/11/para-athletisme-2439030
END:VEVENT
END:VCALENDAR
